Workbook

Sheet 申請書（記載例）
A1: 施設使用（使用変更）申請書
A2: 施 設 名 | K2: ●●地区交流センター | AX2: 参加対象 | BH2: 地域住民
A3: 使 用 目 的 | K3: ●●神楽保存会定期公演 | AX3: 参集人数 | BH3: 50 | BO3: 人
A4: 使 用 日 時 | AR4: 開会時刻 | AX4: 使用場所 | BH4: 使用料
C5: 令和 | G5: 8 | I5: 年 | K5: 10 | M5: 月 | O5: 16 | Q5: 日 | S5: （ | U5: 金 | W5: 曜日 | AA5: ） | AC5: 18 | AF5: 時 | AI5: 00 | AL5: 分から | AR5: 18 | AT5: : | AV5: 30 | AX5: 多目的ホール | BH5: 820 | BO5: 円
AC6: 20 | AF6: 時 | AI6: 00 | AL6: 分まで
C7: 令和 | G7: 8 | I7: 年 | K7: 11 | M7: 月 | O7: 20 | Q7: 日 | S7: （ | U7: 金 | W7: 曜日 | AA7: ） | AC7: 18 | AF7: 時 | AI7: 00 | AL7: 分から | AR7: 18 | AT7: : | AV7: 30 | AX7: 多目的ホール | BH7: 820 | BO7: 円
AC8: 20 | AF8: 時 | AI8: 00 | AL8: 分まで
C9: 令和 | I9: 年 | M9: 月 | Q9: 日 | S9: （ | W9: 曜日 | AA9: ） | AF9: 時 | AL9: 分から | AT9: : | BO9: 円
AF10: 時 | AL10: 分まで
C11: 令和 | I11: 年 | M11: 月 | Q11: 日 | S11: （ | W11: 曜日 | AA11: ） | AF11: 時 | AL11: 分から | AT11: : | BO11: 円
AF12: 時 | AL12: 分まで
C13: 令和 | I13: 年 | M13: 月 | Q13: 日 | S13: （ | W13: 曜日 | AA13: ） | AF13: 時 | AL13: 分から | AT13: : | BO13: 円
AF14: 時 | AL14: 分まで
A15: 使用変更中止理由
B16: a北上市交流センター条例及び同規則 aの規定により施設使用（使用変更） aを許可されるよう申請します。 | Z16: 申 請 者 | AD16: 団体所在地 又は住所 | AL16: 北上市●●町●●１-１
AD17: 団体名称 | AL17: ●●神楽保存会
AD18: 代表者又は 氏 名 | AL18: 会長 ●● ●●
B19: 令和 | G19: 8 | J19: 年 | M19: 9 | P19: 月 | S19: 25 | V19: 日 | AD19: 担当者氏名 | AL19: ●● ●●
A20: 交流センター指定管理者 様 | AD20: 連 絡 先 | AL20: 090-0000-0000
AD21: 使用者内訳 （企業法人を除く） | AM21: 地域内 | AT21: 13 | AW21: 人 | BA21: 市内の地域外 | BK21: 1 | BO21: 人
AM22: 市 外 | AT22: 1 | AW22: 人 | BA22: 計 | BK22: 15 | BO22: 人
A23: 特 記 事 項 | L23: 車椅子での参加者が１名います。
A24: 次の理由により、使用料を減免願います。 | AV24: 減免基準 により免除・５割減額 非該当１１
B25: 使用料減免理由 | L25: コミュニティ活動で使用するため
B28: 事務処理欄 | AQ28: 使用料 合計 | BO28: 円
I31: センター長 | P31: 事務長 | W31: 担当者 | AD31: 受付者
AQ32: 10％ 対象 | AX32: 内税 | BO32: 円
AQ36: 上記のとおり領収しました。 交流センター指定管理者 岩手県北上市 T4000020032069
I41: センター長 | P41: 事務長 | W41: 担当者 | AD41: 受付者
AQ42: 領収欄
AW43: №
V51: 使用変更許可 | AD51: 中止

Sheet 申請書(利用者入力)
A1: 施設使用（使用変更）申請書
A2: 施 設 名 | AX2: 参加対象
A3: 使 用 目 的 | AX3: 参集人数 | BO3: 人
A4: 使 用 日 時 | AR4: 開会時刻 | AX4: 使用場所 | BH4: 使用料
C5: 令和 | I5: 年 | M5: 月 | Q5: 日 | S5: （ | W5: 曜日 | AA5: ） | AF5: 時 | AL5: 分から | AT5: : | BO5: 円
AF6: 時 | AL6: 分まで
C7: 令和 | I7: 年 | M7: 月 | Q7: 日 | S7: （ | W7: 曜日 | AA7: ） | AF7: 時 | AL7: 分から | AT7: : | BO7: 円
AF8: 時 | AL8: 分まで
C9: 令和 | I9: 年 | M9: 月 | Q9: 日 | S9: （ | W9: 曜日 | AA9: ） | AF9: 時 | AL9: 分から | AT9: : | BO9: 円
AF10: 時 | AL10: 分まで
C11: 令和 | I11: 年 | M11: 月 | Q11: 日 | S11: （ | W11: 曜日 | AA11: ） | AF11: 時 | AL11: 分から | AT11: : | BO11: 円
AF12: 時 | AL12: 分まで
C13: 令和 | I13: 年 | M13: 月 | Q13: 日 | S13: （ | W13: 曜日 | AA13: ） | AF13: 時 | AL13: 分から | AT13: : | BO13: 円
AF14: 時 | AL14: 分まで
A15: 使用変更中止理由
B16: a北上市交流センター条例及び同規則 aの規定により施設使用（使用変更） aを許可されるよう申請します。 | Z16: 申 請 者 | AD16: 団体所在地 又は住所
AD17: 団体名称
AD18: 代表者又は 氏 名
B19: 令和 | J19: 年 | P19: 月 | V19: 日 | AD19: 担当者氏名
A20: 交流センター指定管理者 様 | AD20: 連 絡 先
AD21: 使用者内訳 （企業法人を除く） | AM21: 地域内 | AW21: 人 | BA21: 市内の地域外 | BO21: 人
AM22: 市 外 | AW22: 人 | BA22: 計 | BO22: 人
A23: 特 記 事 項
A24: 次の理由により、使用料を減免願います。 | AV24: 減免基準 により免除・５割減額 非該当１１
B25: 使用料減免理由
B28: 事務処理欄 | AQ28: 使用料 合計 | BO28: 円
I31: センター長 | P31: 事務長 | W31: 担当者 | AD31: 受付者
AQ32: 10％ 対象 | AX32: 内税 | BO32: 円
AQ36: 上記のとおり領収しました。 交流センター指定管理者 岩手県北上市 T4000020032069
I41: センター長 | P41: 事務長 | W41: 担当者 | AD41: 受付者
AQ42: 領収欄
AW43: №
V51: 使用変更許可 | AD51: 中止

Sheet 許可控(鍵管理者)
A1: 施設使用（使用変更）許可書控（鍵管理者用）
A2: 施 設 名 | K2: =IF('申請書(利用者入力)'!K2:AW2="","",'申請書(利用者入力)'!K2:AW2) | AX2: 参加対象 | BH2: =IF('申請書(利用者入力)'!BH2:BP2="","",'申請書(利用者入力)'!BH2:BP2)
A3: 使 用 目 的 | K3: =IF('申請書(利用者入力)'!K3:AW3="","",'申請書(利用者入力)'!K3:AW3) | AX3: 参集人数 | BH3: =IF('申請書(利用者入力)'!BH3:BN3="","",'申請書(利用者入力)'!BH3:BN3) | BO3: 人
A4: 使 用 日 時 | AR4: 開会時刻 | AX4: 使用場所 | BH4: 使用料
C5: 令和 | G5: =IF('申請書(利用者入力)'!G5:H6="","",'申請書(利用者入力)'!G5:H6) | I5: 年 | K5: =IF('申請書(利用者入力)'!K5:L6="","",'申請書(利用者入力)'!K5:L6) | M5: 月 | O5: =IF('申請書(利用者入力)'!O5:P6="","",'申請書(利用者入力)'!O5:P6) | Q5: 日 | S5: （ | U5: =IF('申請書(利用者入力)'!U5:V6="","",'申請書(利用者入力)'!U5:V6) | W5: 曜日 | AA5: ） | AC5: =IF('申請書(利用者入力)'!AC5:AE5="","",'申請書(利用者入力)'!AC5:AE5) | AF5: 時 | AI5: =IF('申請書(利用者入力)'!AI5:AK5="","",'申請書(利用者入力)'!AI5:AK5) | AL5: 分から | AR5: =IF('申請書(利用者入力)'!AR5:AS6="","",'申請書(利用者入力)'!AR5:AS6) | AT5: : | AV5: =IF('申請書(利用者入力)'!AV5:AW6="","",'申請書(利用者入力)'!AV5:AW6) | AX5: =IF('申請書(利用者入力)'!AX5:BG6="","",'申請書(利用者入力)'!AX5:BG6) | BH5: =IF('申請書(利用者入力)'!BH5:BN6="","",'申請書(利用者入力)'!BH5:BN6) | BO5: 円
AC6: =IF('申請書(利用者入力)'!AC6:AE6="","",'申請書(利用者入力)'!AC6:AE6) | AF6: 時 | AI6: =IF('申請書(利用者入力)'!AI6:AK6="","",'申請書(利用者入力)'!AI6:AK6) | AL6: 分まで
C7: 令和 | G7: =IF('申請書(利用者入力)'!G7:H8="","",'申請書(利用者入力)'!G7:H8) | I7: 年 | K7: =IF('申請書(利用者入力)'!K7:L8="","",'申請書(利用者入力)'!K7:L8) | M7: 月 | O7: =IF('申請書(利用者入力)'!O7:P8="","",'申請書(利用者入力)'!O7:P8) | Q7: 日 | S7: （ | U7: =IF('申請書(利用者入力)'!U7:V8="","",'申請書(利用者入力)'!U7:V8) | W7: 曜日 | AA7: ） | AC7: =IF('申請書(利用者入力)'!AC7:AE7="","",'申請書(利用者入力)'!AC7:AE7) | AF7: 時 | AI7: =IF('申請書(利用者入力)'!AI7:AK7="","",'申請書(利用者入力)'!AI7:AK7) | AL7: 分から | AR7: =IF('申請書(利用者入力)'!AR7:AS8="","",'申請書(利用者入力)'!AR7:AS8) | AT7: : | AV7: =IF('申請書(利用者入力)'!AV7:AW8="","",'申請書(利用者入力)'!AV7:AW8) | AX7: =IF('申請書(利用者入力)'!AX7:BG8="","",'申請書(利用者入力)'!AX7:BG8) | BH7: =IF('申請書(利用者入力)'!BH7:BN8="","",'申請書(利用者入力)'!BH7:BN8) | BO7: 円
AC8: =IF('申請書(利用者入力)'!AC8:AE8="","",'申請書(利用者入力)'!AC8:AE8) | AF8: 時 | AI8: =IF('申請書(利用者入力)'!AI8:AK8="","",'申請書(利用者入力)'!AI8:AK8) | AL8: 分まで
C9: 令和 | G9: =IF('申請書(利用者入力)'!G9:H10="","",'申請書(利用者入力)'!G9:H10) | I9: 年 | K9: =IF('申請書(利用者入力)'!K9:L10="","",'申請書(利用者入力)'!K9:L10) | M9: 月 | O9: =IF('申請書(利用者入力)'!O9:P10="","",'申請書(利用者入力)'!O9:P10) | Q9: 日 | S9: （ | U9: =IF('申請書(利用者入力)'!U9:V10="","",'申請書(利用者入力)'!U9:V10) | W9: 曜日 | AA9: ） | AC9: =IF('申請書(利用者入力)'!AC9:AE9="","",'申請書(利用者入力)'!AC9:AE9) | AF9: 時 | AI9: =IF('申請書(利用者入力)'!AI9:AK9="","",'申請書(利用者入力)'!AI9:AK9) | AL9: 分から | AR9: =IF('申請書(利用者入力)'!AR9:AS10="","",'申請書(利用者入力)'!AR9:AS10) | AT9: : | AV9: =IF('申請書(利用者入力)'!AV9:AW10="","",'申請書(利用者入力)'!AV9:AW10) | AX9: =IF('申請書(利用者入力)'!AX9:BG10="","",'申請書(利用者入力)'!AX9:BG10) | BH9: =IF('申請書(利用者入力)'!BH9:BN10="","",'申請書(利用者入力)'!BH9:BN10) | BO9: 円
AC10: =IF('申請書(利用者入力)'!AC10:AE10="","",'申請書(利用者入力)'!AC10:AE10) | AF10: 時 | AI10: =IF('申請書(利用者入力)'!AI10:AK10="","",'申請書(利用者入力)'!AI10:AK10) | AL10: 分まで
C11: 令和 | G11: =IF('申請書(利用者入力)'!G11:H12="","",'申請書(利用者入力)'!G11:H12) | I11: 年 | K11: =IF('申請書(利用者入力)'!K11:L12="","",'申請書(利用者入力)'!K11:L12) | M11: 月 | O11: =IF('申請書(利用者入力)'!O11:P12="","",'申請書(利用者入力)'!O11:P12) | Q11: 日 | S11: （ | U11: =IF('申請書(利用者入力)'!U11:V12="","",'申請書(利用者入力)'!U11:V12) | W11: 曜日 | AA11: ） | AC11: =IF('申請書(利用者入力)'!AC11:AE11="","",'申請書(利用者入力)'!AC11:AE11) | AF11: 時 | AI11: =IF('申請書(利用者入力)'!AI11:AK11="","",'申請書(利用者入力)'!AI11:AK11) | AL11: 分から | AR11: =IF('申請書(利用者入力)'!AR11:AS12="","",'申請書(利用者入力)'!AR11:AS12) | AT11: : | AV11: =IF('申請書(利用者入力)'!AV11:AW12="","",'申請書(利用者入力)'!AV11:AW12) | AX11: =IF('申請書(利用者入力)'!AX11:BG12="","",'申請書(利用者入力)'!AX11:BG12) | BH11: =IF('申請書(利用者入力)'!BH11:BN12="","",'申請書(利用者入力)'!BH11:BN12) | BO11: 円
AC12: =IF('申請書(利用者入力)'!AC12:AE12="","",'申請書(利用者入力)'!AC12:AE12) | AF12: 時 | AI12: =IF('申請書(利用者入力)'!AI12:AK12="","",'申請書(利用者入力)'!AI12:AK12) | AL12: 分まで
C13: 令和 | G13: =IF('申請書(利用者入力)'!G13:H14="","",'申請書(利用者入力)'!G13:H14) | I13: 年 | K13: =IF('申請書(利用者入力)'!K13:L14="","",'申請書(利用者入力)'!K13:L14) | M13: 月 | O13: =IF('申請書(利用者入力)'!O13:P14="","",'申請書(利用者入力)'!O13:P14) | Q13: 日 | S13: （ | U13: =IF('申請書(利用者入力)'!U13:V14="","",'申請書(利用者入力)'!U13:V14) | W13: 曜日 | AA13: ） | AC13: =IF('申請書(利用者入力)'!AC13:AE13="","",'申請書(利用者入力)'!AC13:AE13) | AF13: 時 | AI13: =IF('申請書(利用者入力)'!AI13:AK13="","",'申請書(利用者入力)'!AI13:AK13) | AL13: 分から | AR13: =IF('申請書(利用者入力)'!AR13:AS14="","",'申請書(利用者入力)'!AR13:AS14) | AT13: : | AV13: =IF('申請書(利用者入力)'!AV13:AW14="","",'申請書(利用者入力)'!AV13:AW14) | AX13: =IF('申請書(利用者入力)'!AX13:BG14="","",'申請書(利用者入力)'!AX13:BG14) | BH13: =IF('申請書(利用者入力)'!BH13:BN14="","",'申請書(利用者入力)'!BH13:BN14) | BO13: 円
AC14: =IF('申請書(利用者入力)'!AC14:AE14="","",'申請書(利用者入力)'!AC14:AE14) | AF14: 時 | AI14: =IF('申請書(利用者入力)'!AI14:AK14="","",'申請書(利用者入力)'!AI14:AK14) | AL14: 分まで
A15: 使用変更中止理由 | P15: =IF('申請書(利用者入力)'!P15:BQ15="","",'申請書(利用者入力)'!P15:BQ15)
B16: a北上市交流センター条例及び同規則 aの規定により施設使用（使用変更） aを許可します。 | Z16: 申 請 者 | AD16: 団体所在地 又は住所 | AL16: =IF('申請書(利用者入力)'!AL16:BQ16="","",'申請書(利用者入力)'!AL16:BQ16)
AD17: 団体名称 | AL17: =IF('申請書(利用者入力)'!AL17:BQ17="","",'申請書(利用者入力)'!AL17:BQ17)
AD18: 代表者又は 氏 名 | AL18: =IF('申請書(利用者入力)'!AL18:BQ18="","",'申請書(利用者入力)'!AL18:BQ18)
B19: 令和 | J19: 年 | P19: 月 | V19: 日 | AD19: 担当者氏名 | AL19: =IF('申請書(利用者入力)'!AL19:BQ19="","",'申請書(利用者入力)'!AL19:BQ19)
A20: 指定管理者 | AD20: 連 絡 先 | AL20: =IF('申請書(利用者入力)'!AL20:BQ20="","",'申請書(利用者入力)'!AL20:BQ20)
B21: 印 | AD21: 使用者内訳 （企業法人を除く） | AM21: 地域内 | AT21: =IF('申請書(利用者入力)'!AT21:AV21="","",'申請書(利用者入力)'!AT21:AV21) | AW21: 人 | BA21: 市内の地域外 | BK21: =IF('申請書(利用者入力)'!BK21:BN21="","",'申請書(利用者入力)'!BK21:BN21) | BO21: 人
AM22: 市 外 | AT22: =IF('申請書(利用者入力)'!AT22:AV22="","",'申請書(利用者入力)'!AT22:AV22) | AW22: 人 | BA22: 計 | BK22: =IF('申請書(利用者入力)'!BK22:BN22="","",'申請書(利用者入力)'!BK22:BN22) | BO22: 人
A23: 特 記 事 項 | L23: ='申請書(利用者入力)'!L23:BQ23 -> 0
A25: 使用料減免理由 | L25: 北上市公の施設の使用料等減免条例第４条による別表第２ 減免基準 により 免除･５割減額
AQ28: 使用料 合計 | BO28: 円
B30: 注意事項
AQ32: 10％ 対象 | AX32: 内税 | BO32: 円
B34: １ 使用時には、この許可証を携行してください。
B36: ２ 使用内容を変更する場合は、事前に申し出てください。 | AQ36: 上記のとおり領収しました。 交流センター指定管理者 岩手県北上市 T4000020032069
B38: ３ 使用後は、使用報告書又は使用日誌に記入してください。
B40: ４ 火気の取扱いには十分注意してください。
B42: ５ 物品販売などの商行為、看板やポスターなどの掲示、音響機 | AQ42: 領収欄
AW43: №
B44: 器の持ち込みなどを行う場合は、事前の許可が必要です。

Sheet 許可書兼領収書
A1: 施設使用（使用変更）許可書兼領収証書
A2: 施 設 名 | K2: =IF('申請書(利用者入力)'!K2:AW2="","",'申請書(利用者入力)'!K2:AW2) | AX2: 参加対象 | BH2: =IF('申請書(利用者入力)'!BH2:BP2="","",'申請書(利用者入力)'!BH2:BP2)
A3: 使 用 目 的 | K3: =IF('申請書(利用者入力)'!K3:AW3="","",'申請書(利用者入力)'!K3:AW3) | AX3: 参集人数 | BH3: =IF('申請書(利用者入力)'!BH3:BN3="","",'申請書(利用者入力)'!BH3:BN3) | BO3: 人
A4: 使 用 日 時 | AR4: 開会時刻 | AX4: 使用場所 | BH4: 使用料
C5: 令和 | G5: =IF('申請書(利用者入力)'!G5:H6="","",'申請書(利用者入力)'!G5:H6) | I5: 年 | K5: =IF('申請書(利用者入力)'!K5:L6="","",'申請書(利用者入力)'!K5:L6) | M5: 月 | O5: =IF('申請書(利用者入力)'!O5:P6="","",'申請書(利用者入力)'!O5:P6) | Q5: 日 | S5: （ | U5: =IF('申請書(利用者入力)'!U5:V6="","",'申請書(利用者入力)'!U5:V6) | W5: 曜日 | AA5: ） | AC5: =IF('申請書(利用者入力)'!AC5:AE5="","",'申請書(利用者入力)'!AC5:AE5) | AF5: 時 | AI5: =IF('申請書(利用者入力)'!AI5:AK5="","",'申請書(利用者入力)'!AI5:AK5) | AL5: 分から | AR5: =IF('申請書(利用者入力)'!AR5:AS6="","",'申請書(利用者入力)'!AR5:AS6) | AT5: : | AV5: =IF('申請書(利用者入力)'!AV5:AW6="","",'申請書(利用者入力)'!AV5:AW6) | AX5: =IF('申請書(利用者入力)'!AX5:BG6="","",'申請書(利用者入力)'!AX5:BG6) | BH5: =IF('申請書(利用者入力)'!BH5:BN6="","",'申請書(利用者入力)'!BH5:BN6) | BO5: 円
AC6: =IF('申請書(利用者入力)'!AC6:AE6="","",'申請書(利用者入力)'!AC6:AE6) | AF6: 時 | AI6: =IF('申請書(利用者入力)'!AI6:AK6="","",'申請書(利用者入力)'!AI6:AK6) | AL6: 分まで
C7: 令和 | G7: =IF('申請書(利用者入力)'!G7:H8="","",'申請書(利用者入力)'!G7:H8) | I7: 年 | K7: =IF('申請書(利用者入力)'!K7:L8="","",'申請書(利用者入力)'!K7:L8) | M7: 月 | O7: =IF('申請書(利用者入力)'!O7:P8="","",'申請書(利用者入力)'!O7:P8) | Q7: 日 | S7: （ | U7: =IF('申請書(利用者入力)'!U7:V8="","",'申請書(利用者入力)'!U7:V8) | W7: 曜日 | AA7: ） | AC7: =IF('申請書(利用者入力)'!AC7:AE7="","",'申請書(利用者入力)'!AC7:AE7) | AF7: 時 | AI7: =IF('申請書(利用者入力)'!AI7:AK7="","",'申請書(利用者入力)'!AI7:AK7) | AL7: 分から | AR7: =IF('申請書(利用者入力)'!AR7:AS8="","",'申請書(利用者入力)'!AR7:AS8) | AT7: : | AV7: =IF('申請書(利用者入力)'!AV7:AW8="","",'申請書(利用者入力)'!AV7:AW8) | AX7: =IF('申請書(利用者入力)'!AX7:BG8="","",'申請書(利用者入力)'!AX7:BG8) | BH7: =IF('申請書(利用者入力)'!BH7:BN8="","",'申請書(利用者入力)'!BH7:BN8) | BO7: 円
AC8: =IF('申請書(利用者入力)'!AC8:AE8="","",'申請書(利用者入力)'!AC8:AE8) | AF8: 時 | AI8: =IF('申請書(利用者入力)'!AI8:AK8="","",'申請書(利用者入力)'!AI8:AK8) | AL8: 分まで
C9: 令和 | G9: =IF('申請書(利用者入力)'!G9:H10="","",'申請書(利用者入力)'!G9:H10) | I9: 年 | K9: =IF('申請書(利用者入力)'!K9:L10="","",'申請書(利用者入力)'!K9:L10) | M9: 月 | O9: =IF('申請書(利用者入力)'!O9:P10="","",'申請書(利用者入力)'!O9:P10) | Q9: 日 | S9: （ | U9: =IF('申請書(利用者入力)'!U9:V10="","",'申請書(利用者入力)'!U9:V10) | W9: 曜日 | AA9: ） | AC9: =IF('申請書(利用者入力)'!AC9:AE9="","",'申請書(利用者入力)'!AC9:AE9) | AF9: 時 | AI9: =IF('申請書(利用者入力)'!AI9:AK9="","",'申請書(利用者入力)'!AI9:AK9) | AL9: 分から | AR9: =IF('申請書(利用者入力)'!AR9:AS10="","",'申請書(利用者入力)'!AR9:AS10) | AT9: : | AV9: =IF('申請書(利用者入力)'!AV9:AW10="","",'申請書(利用者入力)'!AV9:AW10) | AX9: =IF('申請書(利用者入力)'!AX9:BG10="","",'申請書(利用者入力)'!AX9:BG10) | BH9: =IF('申請書(利用者入力)'!BH9:BN10="","",'申請書(利用者入力)'!BH9:BN10) | BO9: 円
AC10: =IF('申請書(利用者入力)'!AC10:AE10="","",'申請書(利用者入力)'!AC10:AE10) | AF10: 時 | AI10: =IF('申請書(利用者入力)'!AI10:AK10="","",'申請書(利用者入力)'!AI10:AK10) | AL10: 分まで
C11: 令和 | G11: =IF('申請書(利用者入力)'!G11:H12="","",'申請書(利用者入力)'!G11:H12) | I11: 年 | K11: =IF('申請書(利用者入力)'!K11:L12="","",'申請書(利用者入力)'!K11:L12) | M11: 月 | O11: =IF('申請書(利用者入力)'!O11:P12="","",'申請書(利用者入力)'!O11:P12) | Q11: 日 | S11: （ | U11: =IF('申請書(利用者入力)'!U11:V12="","",'申請書(利用者入力)'!U11:V12) | W11: 曜日 | AA11: ） | AC11: =IF('申請書(利用者入力)'!AC11:AE11="","",'申請書(利用者入力)'!AC11:AE11) | AF11: 時 | AI11: =IF('申請書(利用者入力)'!AI11:AK11="","",'申請書(利用者入力)'!AI11:AK11) | AL11: 分から | AR11: =IF('申請書(利用者入力)'!AR11:AS12="","",'申請書(利用者入力)'!AR11:AS12) | AT11: : | AV11: =IF('申請書(利用者入力)'!AV11:AW12="","",'申請書(利用者入力)'!AV11:AW12) | AX11: =IF('申請書(利用者入力)'!AX11:BG12="","",'申請書(利用者入力)'!AX11:BG12) | BH11: =IF('申請書(利用者入力)'!BH11:BN12="","",'申請書(利用者入力)'!BH11:BN12) | BO11: 円
AC12: =IF('申請書(利用者入力)'!AC12:AE12="","",'申請書(利用者入力)'!AC12:AE12) | AF12: 時 | AI12: =IF('申請書(利用者入力)'!AI12:AK12="","",'申請書(利用者入力)'!AI12:AK12) | AL12: 分まで
C13: 令和 | G13: =IF('申請書(利用者入力)'!G13:H14="","",'申請書(利用者入力)'!G13:H14) | I13: 年 | K13: =IF('申請書(利用者入力)'!K13:L14="","",'申請書(利用者入力)'!K13:L14) | M13: 月 | O13: =IF('申請書(利用者入力)'!O13:P14="","",'申請書(利用者入力)'!O13:P14) | Q13: 日 | S13: （ | U13: =IF('申請書(利用者入力)'!U13:V14="","",'申請書(利用者入力)'!U13:V14) | W13: 曜日 | AA13: ） | AC13: =IF('申請書(利用者入力)'!AC13:AE13="","",'申請書(利用者入力)'!AC13:AE13) | AF13: 時 | AI13: =IF('申請書(利用者入力)'!AI13:AK13="","",'申請書(利用者入力)'!AI13:AK13) | AL13: 分から | AR13: =IF('申請書(利用者入力)'!AR13:AS14="","",'申請書(利用者入力)'!AR13:AS14) | AT13: : | AV13: =IF('申請書(利用者入力)'!AV13:AW14="","",'申請書(利用者入力)'!AV13:AW14) | AX13: =IF('申請書(利用者入力)'!AX13:BG14="","",'申請書(利用者入力)'!AX13:BG14) | BH13: =IF('申請書(利用者入力)'!BH13:BN14="","",'申請書(利用者入力)'!BH13:BN14) | BO13: 円
AC14: =IF('申請書(利用者入力)'!AC14:AE14="","",'申請書(利用者入力)'!AC14:AE14) | AF14: 時 | AI14: =IF('申請書(利用者入力)'!AI14:AK14="","",'申請書(利用者入力)'!AI14:AK14) | AL14: 分まで
A15: 使用変更中止理由 | P15: =IF('申請書(利用者入力)'!P15:BQ15="","",'申請書(利用者入力)'!P15:BQ15)
B16: a北上市交流センター条例及び同規則 aの規定により施設使用（使用変更） aを許可します。 | Z16: 申 請 者 | AD16: 団体所在地 又は住所 | AL16: =IF('申請書(利用者入力)'!AL16:BQ16="","",'申請書(利用者入力)'!AL16:BQ16)
AD17: 団体名称 | AL17: =IF('申請書(利用者入力)'!AL17:BQ17="","",'申請書(利用者入力)'!AL17:BQ17)
AD18: 代表者又は 氏 名 | AL18: =IF('申請書(利用者入力)'!AL18:BQ18="","",'申請書(利用者入力)'!AL18:BQ18)
B19: 令和 | J19: 年 | P19: 月 | V19: 日 | AD19: 担当者氏名 | AL19: =IF('申請書(利用者入力)'!AL19:BQ19="","",'申請書(利用者入力)'!AL19:BQ19)
A20: 指定管理者 | AD20: 連 絡 先 | AL20: =IF('申請書(利用者入力)'!AL20:BQ20="","",'申請書(利用者入力)'!AL20:BQ20)
B21: 印 | AD21: 使用者内訳 （企業法人を除く） | AM21: 地域内 | AT21: =IF('申請書(利用者入力)'!AT21:AV21="","",'申請書(利用者入力)'!AT21:AV21) | AW21: 人 | BA21: 市内の地域外 | BK21: =IF('申請書(利用者入力)'!BK21:BN21="","",'申請書(利用者入力)'!BK21:BN21) | BO21: 人
AM22: 市 外 | AT22: =IF('申請書(利用者入力)'!AT22:AV22="","",'申請書(利用者入力)'!AT22:AV22) | AW22: 人 | BA22: 計 | BK22: =IF('申請書(利用者入力)'!BK22:BN22="","",'申請書(利用者入力)'!BK22:BN22) | BO22: 人
A23: 特 記 事 項 | L23: ='申請書(利用者入力)'!L23:BQ23 -> 0
A25: 使用料減免理由 | L25: 北上市公の施設の使用料等減免条例第４条による別表第２ 減免基準 により 免除･５割減額
AQ28: 使用料 合計 | BO28: 円
B30: 注意事項
AQ32: 10％ 対象 | AX32: 内税 | BO32: 円
B34: １ 使用時には、この許可証を携行してください。
B36: ２ 使用内容を変更する場合は、事前に申し出てください。 | AQ36: 上記のとおり領収しました。 交流センター指定管理者 岩手県北上市 T4000020032069
B38: ３ 使用後は、使用報告書又は使用日誌に記入してください。
B40: ４ 火気の取扱いには十分注意してください。
B42: ５ 物品販売などの商行為、看板やポスターなどの掲示、音響機 | AQ42: 領収欄
AW43: №
B44: 器の持ち込みなどを行う場合は、事前の許可が必要です。
